Workbook

Sheet Projektübersicht_Mittelfluss
B1: Kosten- und Finanzierungsplan
B2: Projektname:
B3: Projektträger: | C3: Projektzeitraum eintragen
B4: Kontoverbindung:
C5: 2027 | D5: 2028 | E5: 2029 | F5: 2030 | G5: Projekt
C6: Gesamt | D6: Gesamt | E6: Gesamt | F6: Gesamt | G6: Gesamt
A8: A. | B8: Ausgaben
A9: I. | B9: Personalkosten:
B10: bitte mit Funktion- und Stellenanteil, ggf. Eingruppierung (max. bis EG 12!) | G10: =C10+D10+F10+E10 -> 0
B11: z.B. Honorare | G11: =C11+D11+F11+E11 -> 0
B12: z.B. Dienstleister für Assistenztechnik (nur beim Digitalisierungsantrag) | G12: =C12+D12+F12+E12 -> 0
B14: Zwischensumme I | C14: =SUM(C9:C13) -> 0 | D14: =SUM(D9:D13) -> 0 | E14: =SUM(E9:E13) -> 0 | F14: =SUM(F9:F13) -> 0 | G14: =C14+D14+F14+E14 -> 0
A16: II. | B16: Sachkosten
B17: z.B. Öffentlichkeitsarbeit (Flyer, Broschüren etc) | G17: =C17+D17+F17+E17 -> 0
B18: z.B. Tagungen, Reisekosten | G18: =C18+D18+F18+E18 -> 0
B19: z.B. Anschaffung Assistenztechnik (nur beim Digitalisierungsantrag) | G19: =C19+D19+F19+E19 -> 0
B20: z.B. Lizenzen, Abos für Assistenztechnik (nur beim Digitalisierungsantrag) | G20: =C20+D20+F20+E20 -> 0
B22: Zwischensumme II | C22: =SUM(C16:C21) -> 0 | D22: =SUM(D16:D21) -> 0 | E22: =SUM(E16:E21) -> 0 | F22: =SUM(F16:F21) -> 0 | G22: =C22+D22+F22+E22 -> 0
A24: III. | B24: Verwaltungskosten
B25: z.B. Verwaltungskosten | G25: =C25+D25+F25+E25 -> 0
B26: z.B. Stellenanteil Leitungskraft | G26: =C26+D26+F26+E26 -> 0
B27: z.B. Kosten Büroarbeitsplatz | G27: =C27+D27+F27+E27 -> 0
B29: Zwischensumme III | C29: =SUM(C24:C27) -> 0 | D29: =SUM(D24:D27) -> 0 | E29: =SUM(E24:E27) -> 0 | F29: =SUM(F24:F27) -> 0 | G29: =C29+D29+F29+E29 -> 0
B31: Summe Ausgaben | C31: =C14+C22+C29 -> 0 | D31: =D14+D22+D29 -> 0 | E31: =E14+E22+E29 -> 0 | F31: =F14+F22+F29 -> 0 | G31: =C31+D31+F31+E31 -> 0
A33: B. | B33: Einnahmen/Eigenmittel
A34: I. | B34: Eigenanteil
B35: z.B. Verwaltungskosten | G35: =C35+D35+F35+E35 -> 0
B36: z.B. Stellenanteil Leitungskraft | G36: =E36+D36+F36+C36 -> 0
B37: z.B. Kosten Büroarbeitsplatz | G37: =C37+D37+F37+E37 -> 0
B39: Zwischensumme I | C39: =SUM(C34:C38) -> 0 | D39: =SUM(D34:D38) -> 0 | E39: =SUM(E34:E38) -> 0 | F39: =SUM(F34:F38) -> 0 | G39: =C39+D39+F39+E39 -> 0
A41: II. | B41: Sonstige Einnahmen
B42: z.B. TN-Beiträge o.ä. | G42: =C42+D42+F42+E42 -> 0
B43: z.B. Elternbeiträge o.ä. | G43: =C43+D43+F43+E43 -> 0
B44: Sonstige Einnahmen | G44: =C44+D44+F44+E44 -> 0
B46: Zwischensumme II | C46: =SUM(C41:C45) -> 0 | D46: =SUM(D41:D45) -> 0 | E46: =SUM(E41:E45) -> 0 | F46: =SUM(F41:F45) -> 0 | G46: =C46+D46+F46+E46 -> 0
A48: III. | B48: Drittmittel (Förderung weiterer Fördermittelgeber und Spenden)
B49: "Fördergeber 1" | G49: =C49+D49+F49+E49 -> 0
B50: "Fördergeber 2" | G50: =C50+D50+F50+E50 -> 0
B51: "Fördergeber 3" usw. | G51: =C51+D51+F51+E51 -> 0
B52: Spenden | G52: =C52+D52+F52+E52 -> 0
...

Sheet Soll-Ist
B2: Finanzielle Schlussrechnung Soll-Ist-Vergleich
B3: Projektname: | E3: Projekt Nr:
B4: Projektträger: | E4: (wird von der LWL-Sozialstiftung ausgefüllt)
C7: Plan laut Antrag | D7: Ist | E7: Abweichung
A10: A. | B10: Ausgaben
A12: I. | B12: Personalkosten | C12: =Projektübersicht_Mittelfluss!G14 -> 0 | D12: 0 | E12: =D12-C12 -> 0
A14: II. | B14: Sachkosten | C14: =Projektübersicht_Mittelfluss!G22 -> 0 | D14: 0 | E14: =D14-C14 -> 0
A16: III. | B16: Verwaltungskosten | C16: =Projektübersicht_Mittelfluss!G29 -> 0 | D16: 0 | E16: =D16-C16 -> 0
B19: Summe Ausgaben | C19: =SUM(C10:C18) -> 0 | D19: =SUM(D10:D18) -> 0 | E19: =SUM(E10:E18) -> 0
A21: B. | B21: Einnahmen
A23: I. | B23: Eigenanteil | C23: =Projektübersicht_Mittelfluss!G39 -> 0 | D23: 0 | E23: =D23-C23 -> 0
A25: II. | B25: Sonstige Einnahmen | C25: =Projektübersicht_Mittelfluss!G46 -> 0 | D25: 0 | E25: =D25-C25 -> 0
A27: III. | B27: sonst. Drittmittel | C27: =Projektübersicht_Mittelfluss!G54 -> 0 | D27: 0 | E27: =D27-C27 -> 0
B30: Summe Einnahmen | C30: =SUM(C21:C29) -> 0 | D30: =SUM(D21:D29) -> 0 | E30: =C30-D30 -> 0
A31: C. | B31: Ergebnis / Fehlbetrag (-) | C31: =C30-C19 -> 0 | D31: =D30-D19 -> 0 | E31: =C31-D31 -> 0
B32: Antrag / Förderung LWL Sozialstiftung | C32: =-C31 -> 0 | D32: =-D31 -> 0 | E32: =C32-D32 -> 0

Sheet Finanzübersicht
B1: 2027 | C1: 2028 | D1: 2029 | E1: 2030 | F1: Gesamtkosten
A2: Projektkosten | B2: =Projektübersicht_Mittelfluss!C31 -> 0 | C2: =Projektübersicht_Mittelfluss!D31 -> 0 | D2: =Projektübersicht_Mittelfluss!E31 -> 0 | E2: =Projektübersicht_Mittelfluss!F31 -> 0 | F2: =Projektübersicht_Mittelfluss!G31 -> 0
A3: Eigenmittel min. 10% | B3: =Projektübersicht_Mittelfluss!C56 -> 0 | C3: =Projektübersicht_Mittelfluss!D56 -> 0 | D3: =Projektübersicht_Mittelfluss!E56 -> 0 | E3: =Projektübersicht_Mittelfluss!F56 -> 0 | F3: =Projektübersicht_Mittelfluss!G56 -> 0
A4: Antrag an LWL-Sozialstiftung | B4: =Projektübersicht_Mittelfluss!C60 -> 0 | C4: =Projektübersicht_Mittelfluss!D60 -> 0 | D4: =Projektübersicht_Mittelfluss!E60 -> 0 | E4: =Projektübersicht_Mittelfluss!F60 -> 0 | F4: =Projektübersicht_Mittelfluss!G60 -> 0
A5: Fördervorschlag LWL-Sozialstiftung
